BEGIN:VCALENDAR
VERSION:2.0
PRODID:-//Katholische Korporationen München e.V. - ECPv6.15.17//NONSGML v1.0//EN
CALSCALE:GREGORIAN
METHOD:PUBLISH
X-WR-CALNAME:Katholische Korporationen München e.V.
X-ORIGINAL-URL:https://www.kkmev.de
X-WR-CALDESC:Veranstaltungen für Katholische Korporationen München e.V.
REFRESH-INTERVAL;VALUE=DURATION:PT1H
X-Robots-Tag:noindex
X-PUBLISHED-TTL:PT1H
BEGIN:VTIMEZONE
TZID:Europe/Berlin
BEGIN:DAYLIGHT
TZOFFSETFROM:+0100
TZOFFSETTO:+0200
TZNAME:CEST
DTSTART:20180325T010000
END:DAYLIGHT
BEGIN:STANDARD
TZOFFSETFROM:+0200
TZOFFSETTO:+0100
TZNAME:CET
DTSTART:20181028T010000
END:STANDARD
BEGIN:DAYLIGHT
TZOFFSETFROM:+0100
TZOFFSETTO:+0200
TZNAME:CEST
DTSTART:20190331T010000
END:DAYLIGHT
BEGIN:STANDARD
TZOFFSETFROM:+0200
TZOFFSETTO:+0100
TZNAME:CET
DTSTART:20191027T010000
END:STANDARD
BEGIN:DAYLIGHT
TZOFFSETFROM:+0100
TZOFFSETTO:+0200
TZNAME:CEST
DTSTART:20200329T010000
END:DAYLIGHT
BEGIN:STANDARD
TZOFFSETFROM:+0200
TZOFFSETTO:+0100
TZNAME:CET
DTSTART:20201025T010000
END:STANDARD
BEGIN:DAYLIGHT
TZOFFSETFROM:+0100
TZOFFSETTO:+0200
TZNAME:CEST
DTSTART:20210328T010000
END:DAYLIGHT
BEGIN:STANDARD
TZOFFSETFROM:+0200
TZOFFSETTO:+0100
TZNAME:CET
DTSTART:20211031T010000
END:STANDARD
BEGIN:DAYLIGHT
TZOFFSETFROM:+0100
TZOFFSETTO:+0200
TZNAME:CEST
DTSTART:20220327T010000
END:DAYLIGHT
BEGIN:STANDARD
TZOFFSETFROM:+0200
TZOFFSETTO:+0100
TZNAME:CET
DTSTART:20221030T010000
END:STANDARD
BEGIN:DAYLIGHT
TZOFFSETFROM:+0100
TZOFFSETTO:+0200
TZNAME:CEST
DTSTART:20230326T010000
END:DAYLIGHT
BEGIN:STANDARD
TZOFFSETFROM:+0200
TZOFFSETTO:+0100
TZNAME:CET
DTSTART:20231029T010000
END:STANDARD
END:VTIMEZONE
BEGIN:VEVENT
DTSTART;VALUE=DATE:20220508
DTEND;VALUE=DATE:20220509
DTSTAMP:20260425T193851
CREATED:20220408T100419Z
LAST-MODIFIED:20220413T174928Z
UID:3844-1651968000-1652054399@www.kkmev.de
SUMMARY:KKM-Tag am 08.Mai 2022 in Augsburg
DESCRIPTION:„Ein Tag in Augsburg – Friedensstadt und Welterbe“\nmit Bischof Dr. Bertram Meier und Regierungspräsident Dr. Erwin Lohner \n14:30 Uhr: thematische offizielle Stadtführungen\n17:30 Uhr: heilige Messe im Hohen Dom zu Augsburg\n19:00 Uhr: Empfang im Rokokosaal der Regierung von Schwaben \nUnkostenbeitrag für die Führung\n4€ Aktive & Schüler\, 7€ AHAH & Damen \nFür den Empfang mit musikalischer Umrahmung und einer kleinen Verpflegung freuen wir uns über Spenden am Abend.\nEintritt zum Empfang nur nach Anmeldung. \n  \nWir bedanken uns für die Spenden vom Weingut Anselmann\, der K.D.St.V. Algovia und\nK.St.V. Ludovicia Augsburg sowie dem Regierungspräsidenten Dr. Erwin Lohner.
URL:https://www.kkmev.de/veranstaltung/kkm-tag-am-08-mai-2022-in-augsburg/
LOCATION:Augsburg\, Augsburg\, Deutschland
CATEGORIES:KKM-Tag
ORGANIZER;CN="KKM e.V.":MAILTO:info@kkmev.de
END:VEVENT
BEGIN:VEVENT
DTSTART;TZID=Europe/Berlin:20191114T183000
DTEND;TZID=Europe/Berlin:20191114T220000
DTSTAMP:20260425T193851
CREATED:20191004T092420Z
LAST-MODIFIED:20191114T103435Z
UID:599-1573756200-1573768800@www.kkmev.de
SUMMARY:KKM-Empfang am 14.11.2019
DESCRIPTION:„Medizin – Digitalisierung – Ethik“\nmit Wissenschaftsminister Bernd Sibler\, MdL\nWeihbischof und Dompropst Dres. Anton Losinger (Mitglied des dt. Ethikrates)\nProf. Dr. Bernhard Zwißler (Direktor der Klinik für Anästhesiologie der LMU München)\nunter der Moderation von Prof. Dr. Michael Klein \n\nEinlass: 18:30 Uhr\nBeginn: 19:00 Uhr\nEintritt: 6 Euro Aktive\, 12 Euro AHAH\nmusikalische Umrahmung \n  \nDIE ONLINEBESTELLUNG IST LEIDER NICHT MEHR MÖGLICH.\nBITTE ERWERBEN SIE KARTEN DIREKT AN DER ABENDKASSE.
URL:https://www.kkmev.de/veranstaltung/kkm-empfang-am-14-11-2019/
LOCATION:Sopiensaal\, Sophienstraße 6\, München\, Bayern\, 80333\, Deutschland
CATEGORIES:Vortragsreihe
ORGANIZER;CN="KKM e.V.":MAILTO:info@kkmev.de
END:VEVENT
END:VCALENDAR